BEGIN:VCALENDAR
VERSION:2.0
PRODID:SchoolNow
CALSCALE:GREGORIAN
BEGIN:VEVENT
UID:fc6100e6-c099-11f0-bfcf-0afff80a5fa3
DTSTAMP:20251216T182507Z
SUMMARY:High School Graduation (Rain date: June 7th)
URL;VALUE=URI:https://www.randolph.k12.ma.us/calendar/8793438/high-school-g
 raduation-rain-date-june-7th
DTSTART;VALUE=DATE:20260606
DTEND;VALUE=DATE:20260607
END:VEVENT
END:VCALENDAR
