BEGIN:VCALENDAR
VERSION:2.0
PRODID:SchoolNow
CALSCALE:GREGORIAN
BEGIN:VEVENT
UID:fc60fff6-c099-11f0-b13f-0afff80a5fa3
DTSTAMP:20251216T182507Z
SUMMARY:Last Day for Seniors
URL;VALUE=URI:https://www.randolph.k12.ma.us/calendar/8793437/last-day-for-
 seniors
DTSTART;VALUE=DATE:20260528
DTEND;VALUE=DATE:20260529
END:VEVENT
END:VCALENDAR
