BEGIN:VCALENDAR
VERSION:2.0
PRODID:SchoolNow
CALSCALE:GREGORIAN
BEGIN:VEVENT
UID:fc60f83a-c099-11f0-8c87-0afff80a5fa3
DTSTAMP:20251216T182507Z
SUMMARY:Early Dismissal/Last Day of School/180th School Day
URL;VALUE=URI:https://www.randolph.k12.ma.us/calendar/8793430/early-dismiss
 al-last-day-of-school-180th-school-day
DTSTART;VALUE=DATE:20260612
DTEND;VALUE=DATE:20260613
END:VEVENT
END:VCALENDAR
