BEGIN:VCALENDAR
VERSION:2.0
PRODID:SchoolNow
CALSCALE:GREGORIAN
BEGIN:VEVENT
UID:fc60eeb2-c099-11f0-85e8-0afff80a5fa3
DTSTAMP:20251216T182507Z
SUMMARY:185th Day of School
URL;VALUE=URI:https://www.randolph.k12.ma.us/calendar/8793421/185th-day-of-
 school
DTSTART;VALUE=DATE:20260622
DTEND;VALUE=DATE:20260623
END:VEVENT
END:VCALENDAR
