BEGIN:VCALENDAR
VERSION:2.0
PRODID:SchoolNow
CALSCALE:GREGORIAN
BEGIN:VEVENT
UID:fc60eba6-c099-11f0-8eec-0afff80a5fa3
DTSTAMP:20251216T182507Z
SUMMARY:No School/Memorial Day
URL;VALUE=URI:https://www.randolph.k12.ma.us/calendar/8793418/no-school-mem
 orial-day
DTSTART;VALUE=DATE:20260525
DTEND;VALUE=DATE:20260526
END:VEVENT
END:VCALENDAR
